BEGIN:VCALENDAR
VERSION:2.0
PRODID:iCalendar-Evo
X-WR-TIMEZONE:US/Eastern
BEGIN:VEVENT
DTSTAMP:20260422THI3544Z
URL:https://www.msvfl.gov/events/43322/
DTSTART;TZID=US/Eastern:20260424T133000
SUMMARY:Library: OSHER~The Life & Times of Literary Favorites: Voices of 19th Century America
DESCRIPTION: 
LOCATION:Brockway Memorial Library
GEO:25.86748335399656;-80.1933086621435
UID:e4956b9b-5e0c-4cb9-851e-4c601c09b3c320260424T173000@www.msvfl.gov
END:VEVENT
END:VCALENDAR