BEGIN:VCALENDAR
VERSION:2.0
PRODID:iCalendar-Evo
X-WR-TIMEZONE:US/Eastern
BEGIN:VEVENT
DTSTAMP:20260422THI5718Z
URL:https://www.msvfl.gov/events/43318/
DTSTART;TZID=US/Eastern:20260421T180000
SUMMARY:Library: History Exhibition & Reception
DESCRIPTION:Please register and pay via eventbrite or in person at the front desk. Thank you. 
LOCATION:Brockway Memorial Library
GEO:25.86748335399656;-80.1933086621435
UID:81179842-7817-4f4d-9f09-0b4e64a3855020260421T220000@www.msvfl.gov
END:VEVENT
END:VCALENDAR