BEGIN:VCALENDAR
VERSION:2.0
PRODID:iCalendar-Evo
X-WR-TIMEZONE:US/Eastern
BEGIN:VEVENT
DTSTAMP:20260422THI5405Z
URL:https://www.msvfl.gov/events/43223/
DTSTART;TZID=US/Eastern:20260421T160000
SUMMARY:Library Museum of Contemporary Art (MOCA)
DESCRIPTION:The TEEN Art Force at the Museum of Contemporary Art and Brockway Memorial Library present:  MOCA at the Library with professional artist and educator, Melanie Oliva. The MOCA at the Library program is a 16-week series of FREE after-school contemporary art classes on Tuesdays for TEENS and TWEENS ages 11-17 held at Brockway Library. 
LOCATION:Brockway Memorial Library
GEO:25.86748335399656;-80.1933086621435
STREET-ADDRESS:10021 NE 2nd Avenue
LOCALITY:Miami Shores
REGION:Florida
POSTAL-CODE:33138
UID:8e20c88c-707a-4db3-8965-09b24e0b0d7b20260421T200000@www.msvfl.gov
END:VEVENT
END:VCALENDAR