BEGIN:VCALENDAR
VERSION:2.0
PRODID:iCalendar-Evo
X-WR-TIMEZONE:US/Eastern
BEGIN:VEVENT
DTSTAMP:20260422THI4833Z
URL:https://www.msvfl.gov/events/41717/
DTSTART;TZID=US/Eastern:20260228T103000
SUMMARY:Library:  Brigadier's History Club
DESCRIPTION:If interested in joining, please email walshf@msvfl.gov 
LOCATION:Brockway Memorial Library
GEO:25.86748335399656;-80.1933086621435
UID:609006f6-08ce-44d4-878c-e20efe36cbf120260228T153000@www.msvfl.gov
END:VEVENT
END:VCALENDAR